BEGIN:VCALENDAR
VERSION:2.0
PRODID:-//eventon.com NONSGML v1.0//EN
CALSCALE:GREGORIAN
METHOD:PUBLISH
BEGIN:VEVENT
UID:69e4e4f6b5672
DTSTAMP:20260419T142142
DTSTART:20250719T010000Z
DTEND:20250731T010000Z
TZID:America/Adak
LOCATION:Centro Cultural Casa Grande 
SUMMARY:‘𝗟𝗼𝘀 𝗽𝗲𝗰𝗲𝘀 𝘃𝗼𝗹𝗮𝗱𝗼𝗿𝗲𝘀’
DESCRIPTION: Exposición ‘𝗟𝗼𝘀 𝗽𝗲𝗰𝗲𝘀 𝘃𝗼𝗹𝗮𝗱𝗼𝗿𝗲𝘀’ del artista ayamontino 𝗗𝗮𝗻𝗶 𝗙𝗿𝗮𝗻𝗰𝗼. 📅Del 18 al 30 de julio en el C.C. Casa Grande "Manuel Rivero González" 🖼️ La exposición muestra a esos “niños acróbatas” que saltan al vacío hasta abrazar el abismo. A lo largo de una treintena de obras\,  el público podrá[..]\nhttps://territoriomus.eu/events/%f0%9d%97%9f%f0%9d%97%bc%f0%9d%98%80-%f0%9d%97%bd%f0%9d%97%b2%f0%9d%97%b0%f0%9d%97%b2%f0%9d%98%80-%f0%9d%98%83%f0%9d%97%bc%f0%9d%97%b9%f0%9d%97%ae%f0%9d%97%b1%f0%9d%97%bc%f0%9d%97%bf/
URL:https://territoriomus.eu/events/%f0%9d%97%9f%f0%9d%97%bc%f0%9d%98%80-%f0%9d%97%bd%f0%9d%97%b2%f0%9d%97%b0%f0%9d%97%b2%f0%9d%98%80-%f0%9d%98%83%f0%9d%97%bc%f0%9d%97%b9%f0%9d%97%ae%f0%9d%97%b1%f0%9d%97%bc%f0%9d%97%bf/
END:VEVENT
END:VCALENDAR