BEGIN:VCALENDAR
VERSION:2.0
PRODID:-//eventon.com NONSGML v1.0//EN
CALSCALE:GREGORIAN
METHOD:PUBLISH
BEGIN:VEVENT
UID:69e5f186965b2
DTSTAMP:20260420T092734
DTSTART:20251008T190000Z
DTEND:20251015T220000Z
TZID:America/Adak
LOCATION:
SUMMARY:Feira da Praia
DESCRIPTION: Feira da Praia\nhttps://territoriomus.eu/events/feira-da-praia/
URL:https://territoriomus.eu/events/feira-da-praia/
END:VEVENT
END:VCALENDAR