BEGIN:VCALENDAR
VERSION:2.0
PRODID:-//eventon.com NONSGML v1.0//EN
CALSCALE:GREGORIAN
METHOD:PUBLISH
BEGIN:VEVENT
UID:69e7437179765
DTSTAMP:20260421T092921
DTSTART:20251125
DTEND:20251130
TZID:America/Adak
LOCATION:Centro Cultural Casa Grande 
SUMMARY:XXIX Jornadas de Historia de Ayamonte
DESCRIPTION: XXIX Jornadas de Historia de Ayamonte\nhttps://territoriomus.eu/events/xxix-jornadas-de-historia-de-ayamonte/
URL:https://territoriomus.eu/events/xxix-jornadas-de-historia-de-ayamonte/
END:VEVENT
END:VCALENDAR